BEGIN:VCALENDAR
VERSION:2.0
PRODID:-//Young Discoverers - ECPv5.2.1//NONSGML v1.0//EN
CALSCALE:GREGORIAN
METHOD:PUBLISH
X-WR-CALNAME:Young Discoverers
X-ORIGINAL-URL:https://youngdiscoverers.org.au
X-WR-CALDESC:Events for Young Discoverers
BEGIN:VTIMEZONE
TZID:Australia/Brisbane
BEGIN:STANDARD
TZOFFSETFROM:+1000
TZOFFSETTO:+1000
TZNAME:AEST
DTSTART:20210101T000000
END:STANDARD
END:VTIMEZONE
BEGIN:VEVENT
DTSTART;VALUE=DATE:20210212
DTEND;VALUE=DATE:20210213
DTSTAMP:20210226T142221
CREATED:20210205T045302Z
LAST-MODIFIED:20210205T045302Z
UID:3804-1613088000-1613174399@youngdiscoverers.org.au
SUMMARY:Valentines Day
DESCRIPTION:Valentine’s Day…  Come to Kindy wearing Pink or Red
URL:https://youngdiscoverers.org.au/event/valentines-day/
CATEGORIES:Highland Reserve LDC
END:VEVENT
BEGIN:VEVENT
DTSTART;VALUE=DATE:20210226
DTEND;VALUE=DATE:20210227
DTSTAMP:20210226T142221
CREATED:20210205T050247Z
LAST-MODIFIED:20210205T050247Z
UID:3806-1614297600-1614383999@youngdiscoverers.org.au
SUMMARY:International Fairy Tale Day
DESCRIPTION:To celebrate “International Fairy Tale Day” we are going to dress up in our favourite Fairy Tale costume… \nWhat’s your favourite?
URL:https://youngdiscoverers.org.au/event/international-fairy-tale-day/
CATEGORIES:Highland Reserve LDC
ATTACH;FMTTYPE=image/jpeg:https://youngdiscoverers.org.au/wp-content/uploads/2021/02/fairytale-image.jpg
END:VEVENT
END:VCALENDAR